BEGIN:VCALENDAR
VERSION:2.0
PRODID:-//Hiossen® Implant - ECPv6.11.1//NONSGML v1.0//EN
CALSCALE:GREGORIAN
METHOD:PUBLISH
X-ORIGINAL-URL:https://hiossen.com
X-WR-CALDESC:Events for Hiossen® Implant
REFRESH-INTERVAL;VALUE=DURATION:PT1H
X-Robots-Tag:noindex
X-PUBLISHED-TTL:PT1H
BEGIN:VTIMEZONE
TZID:UTC
BEGIN:STANDARD
TZOFFSETFROM:+0000
TZOFFSETTO:+0000
TZNAME:UTC
DTSTART:20250101T000000
END:STANDARD
END:VTIMEZONE
BEGIN:VEVENT
DTSTART;VALUE=DATE:20260417
DTEND;VALUE=DATE:20260420
DTSTAMP:20260424T162207
CREATED:20251120T225333Z
LAST-MODIFIED:20260316T120822Z
UID:10003852-1776416400-1776618000@hiossen.com
SUMMARY:Master Course- Guided Live Surgery
DESCRIPTION:Master Course – Guided Live Surgery \nHighlights of the Program \n\n1 Day In-Person & 2 Days Live Surgery\nHands-on Guided Surgery Training\nComprehensive Digital Dentistry Workflow\n\nTuition: $2\,500 (includes Two sets of Stents & Implants) \nAdditional cases available \n\n$3\,300 Three sets of Stents & Implants\n$4\,000 Four sets of Stents & Implants
URL:https://hiossen.com/course/26008_x_fwt/
LOCATION:HIOSSEN Arlington office\, 4025 Woodland Park Blvd. #100\, Arlington\, TX\, 76013\, United States
CATEGORIES:Central,Master Surgery
ORGANIZER;CN="Central AIC":MAILTO:centralaiceducation@hiossen.com
END:VEVENT
BEGIN:VEVENT
DTSTART;VALUE=DATE:20250801
DTEND;VALUE=DATE:20250907
DTSTAMP:20260424T162207
CREATED:20250502T211448Z
LAST-MODIFIED:20250507T181229Z
UID:10000128-1754006400-1757203199@hiossen.com
SUMMARY:Master Course_ Computer-Guided Implant Surgery
DESCRIPTION:The instructors for this course have no relevant financial relationships to disclose but are receiving reasonable honoraria for this presentation. Instructor honoraria is provided by Hiossen Implant.\n\nPlease contact Central AIC Education Center should you be interested in registering for the course.\ncentralAICeducation@hiossen.com\n\nPlease read and understand below lecture material consent form before registering for the courses.\n\nLecture Material Access Consent form
URL:https://hiossen.com/course/25143_x_fwt/
LOCATION:HIOSSEN Arlington office\, 4025 Woodland Park Blvd. #100\, Arlington\, TX\, 76013\, United States
CATEGORIES:AIC Courses,Central,Digital Dentistry,Master Surgery
ORGANIZER;CN="Central AIC":MAILTO:centralaiceducation@hiossen.com
END:VEVENT
END:VCALENDAR